BEGIN:VCALENDAR
VERSION:2.0
PRODID:-//Squarespace Inc/Squarespace 6//v6//EN
BEGIN:VEVENT
UID:68d3c3a1dcd29a001d7e7ea2@squarespace.com
DTSTAMP:20250924T101239Z
DTSTART:20251012T140000Z
DTEND:20251012T170000Z
SUMMARY:PERFECTING YOUR PIROUETTE AND OTHER TURNS - TECHNIQUE TUNE UP
GEO:40.720756;-74.000761
LOCATION:That's Dancing\, 6169 JOG ROAD A-15\, LAKE WORTH\, FL 33467\, Unit
 ed States
END:VEVENT
END:VCALENDAR
