BEGIN:VCALENDAR
VERSION:2.0
PRODID:-//Squarespace Inc/Squarespace 6//v6//EN
BEGIN:VEVENT
UID:68d3ce9af2139c1ad92f4311@squarespace.com
DTSTAMP:20250924T113627Z
DTSTART:20251018T190000Z
DTEND:20251020T000000Z
SUMMARY:AUDITION WITH BROADWAY ARTIST - TATIANA NUNEZ
GEO:0.0;0.0
LOCATION:That's Dancing\, 6169 JOG ROAD A-15\, LAKE WORTH\, FL 33467\, Unit
 ed States
END:VEVENT
END:VCALENDAR
