BEGIN:VCALENDAR
VERSION:2.0
PRODID:-//Squarespace Inc/Squarespace 6//v6//EN
BEGIN:VEVENT
UID:6892195e8e81f26cff0fb30e@squarespace.com
DTSTAMP:20250805T145624Z
DTSTART:20251018T200000Z
DTEND:20251018T220000Z
SUMMARY:YDP HALLOWEEN PARTY
GEO:0.0;0.0
LOCATION:That's Dancing\, 6169 JOG ROAD A-15\, LAKE WORTH\, FL 33467\, Unit
 ed States
END:VEVENT
END:VCALENDAR
