BEGIN:VCALENDAR
VERSION:2.0
PRODID:-//Squarespace Inc/Squarespace 6//v6//EN
BEGIN:VEVENT
UID:68921bd7249f334bf0c95398@squarespace.com
DTSTAMP:20250924T101504Z
DTSTART:20251024T150000Z
DTEND:20251026T010000Z
SUMMARY:SPIRITED WEEK!
GEO:0.0;0.0
LOCATION:That's Dancing\, 6169 JOG ROAD A-15\, LAKE WORTH\, FL 33467\, Unit
 ed States
END:VEVENT
END:VCALENDAR
