BEGIN:VCALENDAR
VERSION:2.0
PRODID:-//Squarespace Inc/Squarespace 6//v6//EN
BEGIN:VEVENT
UID:68d3c41d6585ce43e7ee9bf4@squarespace.com
DTSTAMP:20250924T101350Z
DTSTART:20251026T170000Z
DTEND:20251026T210000Z
SUMMARY:ACRO CLINIC
GEO:0.0;0.0
LOCATION:That's Dancing\, 6169 JOG ROAD A-15\, LAKE WORTH\, FL 33467\, Unit
 ed States
END:VEVENT
END:VCALENDAR
