BEGIN:VCALENDAR
VERSION:2.0
PRODID:-//Squarespace Inc/Squarespace 6//v6//EN
BEGIN:VEVENT
UID:68921c386081f0004849ab6d@squarespace.com
DTSTAMP:20250805T150015Z
DTSTART:20251031T213000Z
DTEND:20251101T013000Z
SUMMARY:STUDIO CLOSES AT 5:30PM- HAPPY HALLOWEEN!
GEO:0.0;0.0
LOCATION:That's Dancing\, 6169 JOG ROAD A-15\, LAKE WORTH\, FL 33467\, Unit
 ed States
END:VEVENT
END:VCALENDAR
