BEGIN:VCALENDAR
VERSION:2.0
PRODID:-//Squarespace Inc/Squarespace 6//v6//EN
BEGIN:VEVENT
UID:69122c15878ee732c44ecc06@squarespace.com
DTSTAMP:20251110T181827Z
DTSTART:20251217T230000Z
DTEND:20251218T000000Z
SUMMARY:Adult Ballet Holiday Class
GEO:0.0;0.0
LOCATION:That's Dancing\, 6169 JOG ROAD A-15\, LAKE WORTH\, FL 33467\, Unit
 ed States
END:VEVENT
END:VCALENDAR
