BEGIN:VCALENDAR
VERSION:2.0
PRODID:-//Squarespace Inc/Squarespace 6//v6//EN
BEGIN:VEVENT
UID:68921d6ad331bf19f859f5db@squarespace.com
DTSTAMP:20250805T150459Z
DTSTART:20260302T193000Z
DTEND:20260308T023000Z
SUMMARY:IN STUDIO - PARENT OBSERVATION WEEK (STUDIO 5 &amp\; 6) 
GEO:0.0;0.0
LOCATION:That's Dancing\, 6169 JOG ROAD A-15\, LAKE WORTH\, FL 33467\, Unit
 ed States
END:VEVENT
END:VCALENDAR
