BEGIN:VCALENDAR
VERSION:2.0
PRODID:-//Squarespace Inc/Squarespace 6//v6//EN
BEGIN:VEVENT
UID:68921da88b6acb1a8bc4bf2a@squarespace.com
DTSTAMP:20250805T150554Z
DTSTART:20260309T183000Z
DTEND:20260315T013000Z
SUMMARY:IN STUDIO - PARENT OBSERVATION WEEK (STUDIO 7 &amp\; 8)  
GEO:0.0;0.0
LOCATION:That's Dancing\, 6169 JOG ROAD A-15\, LAKE WORTH\, FL 33467\, Unit
 ed States
END:VEVENT
END:VCALENDAR
