BEGIN:VCALENDAR
VERSION:2.0
PRODID:-//Squarespace Inc/Squarespace 6//v6//EN
BEGIN:VEVENT
UID:68921d1ea932416a1bdcc32f@squarespace.com
DTSTAMP:20250805T150625Z
DTSTART:20251117T193000Z
DTEND:20251123T023000Z
SUMMARY:IN STUDIO - PARENT OBSERVATION WEEK (STUDIO 7 &amp\; 8) 
GEO:0.0;0.0
LOCATION:That's Dancing\, 6169 JOG ROAD A-15\, LAKE WORTH\, FL 33467\, Unit
 ed States
END:VEVENT
END:VCALENDAR
