BEGIN:VCALENDAR
VERSION:2.0
PRODID:-//Squarespace Inc/Squarespace 6//v6//EN
BEGIN:VEVENT
UID:68921cc7ac65632dcb3ed3ef@squarespace.com
DTSTAMP:20250805T162434Z
DTSTART:20251110T193000Z
DTEND:20251116T023000Z
SUMMARY:IN STUDIO - PARENT OBSERVATION WEEK (STUDIO 5 &amp\; 6)
GEO:0.0;0.0
LOCATION:That's Dancing\, 6169 JOG ROAD A-15\, LAKE WORTH\, FL 33467\, Unit
 ed States
END:VEVENT
END:VCALENDAR
