BEGIN:VCALENDAR
VERSION:2.0
PRODID:-//Squarespace Inc/Squarespace 6//v6//EN
BEGIN:VEVENT
UID:68921f057b468c082b72f63e@squarespace.com
DTSTAMP:20250805T151227Z
DTSTART:20251130T220000Z
DTEND:20251201T003000Z
SUMMARY:FFDC SENIOR ANNUAL HOLIDAY DECORATING PARTY
GEO:0.0;0.0
LOCATION:That's Dancing\, 6169 JOG ROAD A-15\, LAKE WORTH\, FL 33467\, Unit
 ed States
END:VEVENT
END:VCALENDAR
