BEGIN:VCALENDAR
VERSION:2.0
PRODID:-//Squarespace Inc/Squarespace 6//v6//EN
BEGIN:VEVENT
UID:68921bd65f3f2a2fa6c4f082@squarespace.com
DTSTAMP:20250805T151532Z
DTSTART:20251201T190000Z
DTEND:20251202T020000Z
SUMMARY:STUDIO RE-OPENS
GEO:0.0;0.0
LOCATION:That's Dancing\, 6169 JOG ROAD A-15\, LAKE WORTH\, FL 33467\, Unit
 ed States
END:VEVENT
END:VCALENDAR
