BEGIN:VCALENDAR
VERSION:2.0
PRODID:-//Squarespace Inc/Squarespace 6//v6//EN
BEGIN:VEVENT
UID:68922226123fe03bedd49597@squarespace.com
DTSTAMP:20250805T152543Z
DTSTART:20251214T170000Z
DTEND:20251214T203000Z
SUMMARY:FFDC OUTREACH HOLIDAY PERFORMANCE WITH BFF &amp\; CHS
GEO:0.0;0.0
LOCATION:That's Dancing\, 6169 JOG ROAD A-15\, LAKE WORTH\, FL 33467\, Unit
 ed States
END:VEVENT
END:VCALENDAR
