BEGIN:VCALENDAR
VERSION:2.0
PRODID:-//Squarespace Inc/Squarespace 6//v6//EN
BEGIN:VEVENT
UID:689222d42a58aa096d9191ff@squarespace.com
DTSTAMP:20250805T152759Z
DTSTART:20251215T190000Z
DTEND:20251220T200000Z
SUMMARY:HOLIDAY PAJAMA WEEK
GEO:0.0;0.0
LOCATION:That's Dancing\, 6169 JOG ROAD A-15\, LAKE WORTH\, FL 33467\, Unit
 ed States
END:VEVENT
END:VCALENDAR
