BEGIN:VCALENDAR
VERSION:2.0
PRODID:-//Squarespace Inc/Squarespace 6//v6//EN
BEGIN:VEVENT
UID:68922367a2b6980d7650393b@squarespace.com
DTSTAMP:20250805T153037Z
DTSTART:20251219T003000Z
DTEND:20251219T013000Z
SUMMARY:SECRET SNOWFLAKE - FFDC TEENS &amp\; SENIORS
GEO:0.0;0.0
LOCATION:That's Dancing\, 6169 JOG ROAD A-15\, LAKE WORTH\, FL 33467\, Unit
 ed States
END:VEVENT
END:VCALENDAR
