BEGIN:VCALENDAR
VERSION:2.0
PRODID:-//Squarespace Inc/Squarespace 6//v6//EN
BEGIN:VEVENT
UID:689221406521a12d344e1f84@squarespace.com
DTSTAMP:20250805T152137Z
DTSTART:20251202T143000Z
DTEND:20251203T033000Z
SUMMARY:DANCE GALA COSTUME PAYMENT AUTO DRAFT
GEO:0.0;0.0
LOCATION:That's Dancing\, 6169 JOG ROAD A-15\, LAKE WORTH\, FL 33467\, Unit
 ed States
END:VEVENT
END:VCALENDAR
