BEGIN:VCALENDAR
VERSION:2.0
PRODID:-//Squarespace Inc/Squarespace 6//v6//EN
BEGIN:VEVENT
UID:68f78c93c4b70a4611f324e6@squarespace.com
DTSTAMP:20251021T133808Z
DTSTART:20251207T160000Z
DTEND:20251207T173000Z
SUMMARY:Nutcracker Tea Party
GEO:0.0;0.0
LOCATION:That's Dancing\, 6169 JOG ROAD A-15\, LAKE WORTH\, FL 33467\, Unit
 ed States
END:VEVENT
END:VCALENDAR
