BEGIN:VCALENDAR
VERSION:2.0
PRODID:-//Squarespace Inc/Squarespace 6//v6//EN
BEGIN:VEVENT
UID:68922674e5653563cafc3645@squarespace.com
DTSTAMP:20250805T154323Z
DTSTART:20250820T230000Z
DTEND:20250821T000000Z
SUMMARY:FFDC PARENT MEETING FOR 25-26 SEASON
GEO:0.0;0.0
LOCATION:That's Dancing\, 6169 JOG ROAD A-15\, LAKE WORTH\, FL 33467\, Unit
 ed States
END:VEVENT
END:VCALENDAR
