BEGIN:VCALENDAR
VERSION:2.0
PRODID:-//Squarespace Inc/Squarespace 6//v6//EN
BEGIN:VEVENT
UID:68752a179b2dd95584d3df7d@squarespace.com
DTSTAMP:20250714T160239Z
DTSTART:20250821T220000Z
DTEND:20250822T000000Z
SUMMARY:FFDC Team Building Intensive 
GEO:0.0;0.0
LOCATION:That's Dancing\, 6169 JOG ROAD A-15\, LAKE WORTH\, FL 33467\, Unit
 ed States
END:VEVENT
END:VCALENDAR
