BEGIN:VCALENDAR
VERSION:2.0
PRODID:-//Squarespace Inc/Squarespace 6//v6//EN
BEGIN:VEVENT
UID:68752a250fde0b37719481f4@squarespace.com
DTSTAMP:20250714T160307Z
DTSTART:20250823T140000Z
DTEND:20250823T180000Z
SUMMARY:FFDC Team Building Intensive 
GEO:0.0;0.0
LOCATION:That's Dancing\, 6169 JOG ROAD A-15\, LAKE WORTH\, FL 33467\, Unit
 ed States
END:VEVENT
END:VCALENDAR
