BEGIN:VCALENDAR
VERSION:2.0
PRODID:-//Squarespace Inc/Squarespace 6//v6//EN
BEGIN:VEVENT
UID:689ab96a1b5b4e75f3dee5ea@squarespace.com
DTSTAMP:20250812T204208Z
DTSTART:20250820T200000Z
DTEND:20250820T210000Z
SUMMARY:Technique Tune Up
GEO:0.0;0.0
LOCATION:That's Dancing\, 6169 JOG ROAD A-15\, LAKE WORTH\, FL 33467\, Unit
 ed States
END:VEVENT
END:VCALENDAR
