BEGIN:VCALENDAR
VERSION:2.0
PRODID:-//Squarespace Inc/Squarespace 6//v6//EN
BEGIN:VEVENT
UID:689a4e3ec01a021b33d1d9a5@squarespace.com
DTSTAMP:20250811T201133Z
DTSTART:20250823T130000Z
DTEND:20250823T190000Z
SUMMARY:LA Designs Pop Up Shop at That's Dancing - OPEN TO ALL!  Stop by!
GEO:0.0;0.0
LOCATION:That's Dancing\, 6169 JOG ROAD A-15\, LAKE WORTH\, FL 33467\, Unit
 ed States
END:VEVENT
END:VCALENDAR
