BEGIN:VCALENDAR
VERSION:2.0
PRODID:-//Squarespace Inc/Squarespace 6//v6//EN
BEGIN:VEVENT
UID:68920f1de82f56446986aee2@squarespace.com
DTSTAMP:20250805T140359Z
DTSTART:20250825T180000Z
DTEND:20250826T010000Z
SUMMARY:First Day of 25-26 Dance Season
GEO:0.0;0.0
LOCATION:That's Dancing\, 6169 JOG ROAD A-15\, LAKE WORTH\, FL 33467\, Unit
 ed States
END:VEVENT
END:VCALENDAR
