BEGIN:VCALENDAR
VERSION:2.0
PRODID:-//Squarespace Inc/Squarespace 6//v6//EN
BEGIN:VEVENT
UID:68920fe2ac22aa44b58b79b0@squarespace.com
DTSTAMP:20250805T140728Z
DTSTART:20250901T180000Z
DTEND:20250902T010000Z
SUMMARY:FFDC Team Jacket Order Deadline
GEO:0.0;0.0
LOCATION:That's Dancing\, 6169 JOG ROAD A-15\, LAKE WORTH\, FL 33467\, Unit
 ed States
END:VEVENT
END:VCALENDAR
