BEGIN:VCALENDAR
VERSION:2.0
PRODID:-//Squarespace Inc/Squarespace 6//v6//EN
BEGIN:VEVENT
UID:68920f7928295648e050f196@squarespace.com
DTSTAMP:20250805T140523Z
DTSTART:20250901T180000Z
DTEND:20250902T010000Z
SUMMARY:Studio Closed - Labor Day
GEO:0.0;0.0
LOCATION:That's Dancing\, 6169 JOG ROAD A-15\, LAKE WORTH\, FL 33467\, Unit
 ed States
END:VEVENT
END:VCALENDAR
