BEGIN:VCALENDAR
VERSION:2.0
PRODID:-//Squarespace Inc/Squarespace 6//v6//EN
BEGIN:VEVENT
UID:68924bfeb1e98859677610d3@squarespace.com
DTSTAMP:20250805T183043Z
DTSTART:20250922T183000Z
DTEND:20250927T193000Z
SUMMARY:YDP - BRING A FRIEND WEEKhttps://www.thatsdancing.com/onlinestore/y
 dp-bring-a-friend-week?category=YOUNG%20DANCER%20PROGRAM
GEO:0.0;0.0
LOCATION:That's Dancing\, 6169 JOG ROAD A-15\, LAKE WORTH\, FL 33467\, Unit
 ed States
END:VEVENT
END:VCALENDAR
