BEGIN:VCALENDAR
VERSION:2.0
PRODID:-//Squarespace Inc/Squarespace 6//v6//EN
BEGIN:VEVENT
UID:689214b11b8ed904337dfb08@squarespace.com
DTSTAMP:20250805T143242Z
DTSTART:20250928T133000Z
DTEND:20250928T233000Z
SUMMARY:FFDC Photo Shoot
GEO:0.0;0.0
LOCATION:That's Dancing\, 6169 JOG ROAD A-15\, LAKE WORTH\, FL 33467\, Unit
 ed States
END:VEVENT
END:VCALENDAR
