BEGIN:VCALENDAR
VERSION:2.0
PRODID:-//Squarespace Inc/Squarespace 6//v6//EN
BEGIN:VEVENT
UID:68921077c07acf5df770a7a3@squarespace.com
DTSTAMP:20250805T140955Z
DTSTART:20250905T233000Z
DTEND:20250906T003000Z
SUMMARY:Student Ambassador Photo Shoot
GEO:0.0;0.0
LOCATION:That's Dancing\, 6169 JOG ROAD A-15\, LAKE WORTH\, FL 33467\, Unit
 ed States
END:VEVENT
END:VCALENDAR
