BEGIN:VCALENDAR
VERSION:2.0
PRODID:-//Squarespace Inc/Squarespace 6//v6//EN
BEGIN:VEVENT
UID:68925d211500957d7b3bee4f@squarespace.com
DTSTAMP:20250805T193717Z
DTSTART:20250907T150000Z
DTEND:20250907T190000Z
SUMMARY:ACRO CLINIC
GEO:0.0;0.0
LOCATION:That's Dancing\, 6169 JOG ROAD A-15\, LAKE WORTH\, FL 33467\, Unit
 ed States
END:VEVENT
END:VCALENDAR
