BEGIN:VCALENDAR
VERSION:2.0
PRODID:-//Squarespace Inc/Squarespace 6//v6//EN
BEGIN:VEVENT
UID:69210053d487e43ee380eb8d@squarespace.com
DTSTAMP:20251122T001518Z
DTSTART:20260111T150000Z
DTEND:20260111T210000Z
SUMMARY:FFDC Solo Critique &amp\; One-on-One Feedback Sessions – Registrati
 on Now Open!
GEO:0.0;0.0
LOCATION:That's Dancing\, 6169 JOG ROAD A-15\, LAKE WORTH\, FL 33467\, Unit
 ed States
END:VEVENT
END:VCALENDAR
