BEGIN:VCALENDAR
VERSION:2.0
PRODID:-//Squarespace Inc/Squarespace 6//v6//EN
BEGIN:VEVENT
UID:69668789c3b39524949e6145@squarespace.com
DTSTAMP:20260113T175900Z
DTSTART:20260717T170000Z
DTEND:20260719T180000Z
SUMMARY:ACRO ARTS  TEACHER TRAINING - MODULE 2 / REGISTER DIRECT WITH ACRO 
 ARTS
GEO:0.0;0.0
LOCATION:That's Dancing\, 6169 JOG ROAD A-15\, LAKE WORTH\, FL 33467\, Unit
 ed States
END:VEVENT
END:VCALENDAR
