BEGIN:VCALENDAR
VERSION:2.0
PRODID:-//Squarespace Inc/Squarespace 6//v6//EN
BEGIN:VEVENT
UID:68922196087162564a9c4be3@squarespace.com
DTSTAMP:20250805T152257Z
DTSTART:20260115T163000Z
DTEND:20260116T023000Z
SUMMARY:DANCE GALA PARTICIPATION FEE AUTO DRAFT
GEO:0.0;0.0
LOCATION:That's Dancing\, 6169 JOG ROAD A-15\, LAKE WORTH\, FL 33467\, Unit
 ed States
END:VEVENT
END:VCALENDAR
