BEGIN:VCALENDAR
VERSION:2.0
PRODID:-//Squarespace Inc/Squarespace 6//v6//EN
BEGIN:VEVENT
UID:689225d3f2adf4749291eef5@squarespace.com
DTSTAMP:20250805T154106Z
DTSTART:20260117T160000Z
DTEND:20260117T220000Z
SUMMARY:FFDC MANDATORY IN STUDIO DRESS REHEARSAL
GEO:0.0;0.0
LOCATION:That's Dancing\, 6169 JOG ROAD A-15\, LAKE WORTH\, FL 33467\, Unit
 ed States
END:VEVENT
END:VCALENDAR
