BEGIN:VCALENDAR
VERSION:2.0
PRODID:-//Squarespace Inc/Squarespace 6//v6//EN
BEGIN:VEVENT
UID:696b19ad128fe76eeb4ae93d@squarespace.com
DTSTAMP:20260117T051048Z
DTSTART:20260119T153000Z
DTEND:20260119T163000Z
SUMMARY:TECHNIQUE TUNE UP
GEO:0.0;0.0
LOCATION:That's Dancing\, 6169 JOG ROAD A-15\, LAKE WORTH\, FL 33467\, Unit
 ed States
END:VEVENT
END:VCALENDAR
