BEGIN:VCALENDAR
VERSION:2.0
PRODID:-//Squarespace Inc/Squarespace 6//v6//EN
BEGIN:VEVENT
UID:6892261ae63e031af9d8c942@squarespace.com
DTSTAMP:20250805T154214Z
DTSTART:20260124T160000Z
DTEND:20260124T220000Z
SUMMARY:FFDC MANDATORY DRESS &amp\; TECH REHEARSAL
GEO:0.0;0.0
LOCATION:That's Dancing\, 6169 JOG ROAD A-15\, LAKE WORTH\, FL 33467\, Unit
 ed States
END:VEVENT
END:VCALENDAR
