BEGIN:VCALENDAR
VERSION:2.0
PRODID:-//Squarespace Inc/Squarespace 6//v6//EN
BEGIN:VEVENT
UID:6920f93ad1f5061fa67a324d@squarespace.com
DTSTAMP:20251121T234436Z
DTSTART:20260104T140000Z
DTEND:20260105T000000Z
SUMMARY:SO FLO TAP FEST
GEO:0.0;0.0
LOCATION:That's Dancing\, 6169 JOG ROAD A-15\, LAKE WORTH\, FL 33467\, Unit
 ed States
END:VEVENT
END:VCALENDAR
