BEGIN:VCALENDAR
VERSION:2.0
PRODID:-//Squarespace Inc/Squarespace 6//v6//EN
BEGIN:VEVENT
UID:68924b0acb54441b0c38cc69@squarespace.com
DTSTAMP:20250805T181936Z
DTSTART:20260105T193000Z
DTEND:20260105T203000Z
SUMMARY:STUDIO RE-OPENS
GEO:0.0;0.0
LOCATION:That's Dancing\, 6169 JOG ROAD A-15\, LAKE WORTH\, FL 33467\, Unit
 ed States
END:VEVENT
END:VCALENDAR
