BEGIN:VCALENDAR
VERSION:2.0
PRODID:-//Squarespace Inc/Squarespace 6//v6//EN
BEGIN:VEVENT
UID:68922a60fee1aa0ddba61c4b@squarespace.com
DTSTAMP:20250805T160007Z
DTSTART:20260316T160000Z
DTEND:20260323T020000Z
SUMMARY:STUDIO CLOSED - SPRING BREAK
GEO:0.0;0.0
LOCATION:That's Dancing\, 6169 JOG ROAD A-15\, LAKE WORTH\, FL 33467\, Unit
 ed States
END:VEVENT
END:VCALENDAR
