BEGIN:VCALENDAR
VERSION:2.0
PRODID:-//Squarespace Inc/Squarespace 6//v6//EN
BEGIN:VEVENT
UID:6892201dcbd0a203e5a20cb4@squarespace.com
DTSTAMP:20250805T151627Z
DTSTART:20260323T180000Z
DTEND:20260324T010000Z
SUMMARY:STUDIO RE-OPENS
GEO:0.0;0.0
LOCATION:That's Dancing\, 6169 JOG ROAD A-15\, LAKE WORTH\, FL 33467\, Unit
 ed States
END:VEVENT
END:VCALENDAR
