BEGIN:VCALENDAR
VERSION:2.0
PRODID:-//Squarespace Inc/Squarespace 6//v6//EN
BEGIN:VEVENT
UID:69d3ec659b998b0304d88454@squarespace.com
DTSTAMP:20260406T172602Z
DTSTART:20260406T220000Z
DTEND:20260406T230000Z
SUMMARY:GALA FAQ SESSION
GEO:0.0;0.0
LOCATION:That's Dancing\, 6169 JOG ROAD A-15\, LAKE WORTH\, FL 33467\, Unit
 ed States
END:VEVENT
END:VCALENDAR
