BEGIN:VCALENDAR
VERSION:2.0
PRODID:-//Squarespace Inc/Squarespace 6//v6//EN
BEGIN:VEVENT
UID:69c09b00dd8cd301474b7a58@squarespace.com
DTSTAMP:20260323T014503Z
DTSTART:20260414T180000Z
DTEND:20260417T010000Z
SUMMARY:Train with the team 
GEO:0.0;0.0
LOCATION:That's Dancing\, 6169 JOG ROAD A-15\, LAKE WORTH\, FL 33467\, Unit
 ed States
END:VEVENT
END:VCALENDAR
