BEGIN:VCALENDAR
VERSION:2.0
PRODID:-//Squarespace Inc/Squarespace 6//v6//EN
BEGIN:VEVENT
UID:69c09aae6851c61701d791d7@squarespace.com
DTSTAMP:20260323T014432Z
DTSTART:20260407T180000Z
DTEND:20260410T010000Z
SUMMARY:Train with the team
GEO:0.0;0.0
LOCATION:That's Dancing\, 6169 JOG ROAD A-15\, LAKE WORTH\, FL 33467\, Unit
 ed States
END:VEVENT
END:VCALENDAR
