BEGIN:VCALENDAR
VERSION:2.0
PRODID:-//Squarespace Inc/Squarespace 6//v6//EN
BEGIN:VEVENT
UID:68922a90d0cb0b70d777218b@squarespace.com
DTSTAMP:20250805T160100Z
DTSTART:20260511T163000Z
DTEND:20260516T173000Z
SUMMARY:IN STUDIO DRESS REHEARSAL - DANCE GALA 2026
GEO:0.0;0.0
LOCATION:That's Dancing\, 6169 JOG ROAD A-15\, LAKE WORTH\, FL 33467\, Unit
 ed States
END:VEVENT
END:VCALENDAR
