BEGIN:VCALENDAR
VERSION:2.0
PRODID:-//Squarespace Inc/Squarespace 6//v6//EN
BEGIN:VEVENT
UID:68922ac1d647b31b8a38426c@squarespace.com
DTSTAMP:20250805T160229Z
DTSTART:20260516T163000Z
DTEND:20260516T173000Z
SUMMARY:LAST DAY OF CLASS FOR 2025-2026 DANCE SEASON
GEO:0.0;0.0
LOCATION:That's Dancing\, 6169 JOG ROAD A-15\, LAKE WORTH\, FL 33467\, Unit
 ed States
END:VEVENT
END:VCALENDAR
