BEGIN:VCALENDAR
VERSION:2.0
PRODID:-//Squarespace Inc/Squarespace 6//v6//EN
BEGIN:VEVENT
UID:68922c6d3052c36b0f95e717@squarespace.com
DTSTAMP:20260119T042202Z
DTSTART:20260601T133000Z
DTEND:20260605T233000Z
SUMMARY:SUMMER INTENSIVE 2026
GEO:0.0;0.0
LOCATION:That's Dancing\, 6169 JOG ROAD A-15\, LAKE WORTH\, FL 33467\, Unit
 ed States
END:VEVENT
END:VCALENDAR
