BEGIN:VCALENDAR
VERSION:2.0
PRODID:-//Squarespace Inc/Squarespace 6//v6//EN
BEGIN:VEVENT
UID:69c09b2e57b74522856fd889@squarespace.com
DTSTAMP:20260323T014622Z
DTSTART:20260611T140000Z
DTEND:20260614T170000Z
SUMMARY:CONTEMPORARY DANCE LAB
GEO:0.0;0.0
LOCATION:That's Dancing\, 6169 JOG ROAD A-15\, LAKE WORTH\, FL 33467\, Unit
 ed States
END:VEVENT
END:VCALENDAR
