BEGIN:VCALENDAR
VERSION:2.0
PRODID:-//Squarespace Inc/Squarespace 6//v6//EN
BEGIN:VEVENT
UID:69c09c03ed183948a998f18d@squarespace.com
DTSTAMP:20260323T014901Z
DTSTART:20260709T210000Z
DTEND:20260709T220000Z
SUMMARY:TECHNIQUE TUNE UP - SUMMER SERIES     
GEO:0.0;0.0
LOCATION:That's Dancing\, 6169 JOG ROAD A-15\, LAKE WORTH\, FL 33467\, Unit
 ed States
END:VEVENT
END:VCALENDAR
