BEGIN:VCALENDAR
VERSION:2.0
PRODID:-//Squarespace Inc/Squarespace 6//v6//EN
BEGIN:VEVENT
UID:69c09beb17e1d774a70d71e6@squarespace.com
DTSTAMP:20260323T014842Z
DTSTART:20260702T210000Z
DTEND:20260702T220000Z
SUMMARY:TECHNIQUE TUNE UP - SUMMER SERIES    
GEO:0.0;0.0
LOCATION:That's Dancing\, 6169 JOG ROAD A-15\, LAKE WORTH\, FL 33467\, Unit
 ed States
END:VEVENT
END:VCALENDAR
