BEGIN:VCALENDAR
VERSION:2.0
PRODID:-//Squarespace Inc/Squarespace 6//v6//EN
BEGIN:VEVENT
UID:68922c048bdac740d8ecad5a@squarespace.com
DTSTAMP:20260119T040017Z
DTSTART:20260613T163000Z
DTEND:20260718T013000Z
SUMMARY:SUMMER 2026 6 WEEK SESSION
GEO:0.0;0.0
LOCATION:That's Dancing\, 6169 JOG ROAD A-15\, LAKE WORTH\, FL 33467\, Unit
 ed States
END:VEVENT
END:VCALENDAR
